BEGIN:VCALENDAR
VERSION:2.0
PRODID:-//My Calendar//http://www.joedolson.com//v3.2.14//EN
METHOD:PUBLISH
CALSCALE:GREGORIAN
X-WR-CALNAME:Whitby
X-PUBLISHED-TTL:PT24H
REFRESH-INTERVAL;VALUE=DURATION:PT24H
X-WR-CALDESC:Events from Whitby
BEGIN:VEVENT
UID:2312-251
LOCATION:Whitby   Whitby North Yorkshire YO21
SUMMARY:The Whitby Regatta 2016
DTSTAMP:20161019T000000
ORGANIZER;CN=JS:MAILTO:info@completeinternetservices.co.uk
DTSTART;TZID=Europe/London:20161019T000000
DTEND;TZID=Europe/London:20161020T000000
URL;VALUE=URI:http://www.whitby.co.uk/calendar/
DESCRIPTION:[caption id="attachment_1681" align="alignleft" width="150"] Small commercial craft in Whitby[/caption]The Whitby Regatta 2016 August 19th, 20th, 21st, 22nd, presents to you, four days of entertainment, embracing yacht racing, rowing races and various free forms of entertainment as published in the official programme, finishing with a prize presentation and spectacular firework display.One hundred and seventy six years of aquatic competition and entertainment. The Whitby Regatta is probably the oldest sea Regatta on the northeast coast and has drawn large crowds into Whitby over the years. 
CATEGORIES:Festival
X-FUNAMBOL-ALLDAY: 1
X-MICROSOFT-CDO-ALLDAYEVENT: TRUE

END:VEVENT
BEGIN:VEVENT
UID:2313-252
LOCATION:Whitby   Whitby North Yorkshire YO21
SUMMARY:The Whitby Regatta 2016
DTSTAMP:20161020T000000
ORGANIZER;CN=JS:MAILTO:info@completeinternetservices.co.uk
DTSTART;TZID=Europe/London:20161020T000000
DTEND;TZID=Europe/London:20161021T000000
URL;VALUE=URI:http://www.whitby.co.uk/calendar/
DESCRIPTION:[caption id="attachment_1681" align="alignleft" width="150"] Small commercial craft in Whitby[/caption]The Whitby Regatta 2016 August 19th, 20th, 21st, 22nd, presents to you, four days of entertainment, embracing yacht racing, rowing races and various free forms of entertainment as published in the official programme, finishing with a prize presentation and spectacular firework display.One hundred and seventy six years of aquatic competition and entertainment. The Whitby Regatta is probably the oldest sea Regatta on the northeast coast and has drawn large crowds into Whitby over the years. 
CATEGORIES:Festival
X-FUNAMBOL-ALLDAY: 1
X-MICROSOFT-CDO-ALLDAYEVENT: TRUE

END:VEVENT
BEGIN:VEVENT
UID:2314-253
LOCATION:Whitby   Whitby North Yorkshire YO21
SUMMARY:The Whitby Regatta 2016
DTSTAMP:20161021T000000
ORGANIZER;CN=JS:MAILTO:info@completeinternetservices.co.uk
DTSTART;TZID=Europe/London:20161021T000000
DTEND;TZID=Europe/London:20161022T000000
URL;VALUE=URI:http://www.whitby.co.uk/calendar/
DESCRIPTION:[caption id="attachment_1681" align="alignleft" width="150"] Small commercial craft in Whitby[/caption]The Whitby Regatta 2016 August 19th, 20th, 21st, 22nd, presents to you, four days of entertainment, embracing yacht racing, rowing races and various free forms of entertainment as published in the official programme, finishing with a prize presentation and spectacular firework display.One hundred and seventy six years of aquatic competition and entertainment. The Whitby Regatta is probably the oldest sea Regatta on the northeast coast and has drawn large crowds into Whitby over the years. 
CATEGORIES:Festival
X-FUNAMBOL-ALLDAY: 1
X-MICROSOFT-CDO-ALLDAYEVENT: TRUE

END:VEVENT
BEGIN:VEVENT
UID:2303-242
LOCATION:Whitby Pavilion West Cliff  Whitby North Yorkshire YO21 3EN
SUMMARY:MUSICPORT Whitby
DTSTAMP:20161021T000000
ORGANIZER;CN=JS:MAILTO:info@completeinternetservices.co.uk
DTSTART;TZID=Europe/London:20161021T000000
DTEND;TZID=Europe/London:20161022T000000
URL;VALUE=URI:http://www.whitby.co.uk/calendar/
DESCRIPTION:MUSICPORT WhitbyMusicport, is an annual music festival held in Whitby Pavilion, showcasing a dynamic range of World Music.Whitby Pavilion Complex,Whitby West Cliff,Whitby,Yorkshire,YO21 3EN.Telephone: 01947 603475 
CATEGORIES:Music
X-FUNAMBOL-ALLDAY: 1
X-MICROSOFT-CDO-ALLDAYEVENT: TRUE

END:VEVENT
BEGIN:VEVENT
UID:2315-254
LOCATION:Whitby   Whitby North Yorkshire YO21
SUMMARY:The Whitby Regatta 2016
DTSTAMP:20161022T000000
ORGANIZER;CN=JS:MAILTO:info@completeinternetservices.co.uk
DTSTART;TZID=Europe/London:20161022T000000
DTEND;TZID=Europe/London:20161023T000000
URL;VALUE=URI:http://www.whitby.co.uk/calendar/
DESCRIPTION:[caption id="attachment_1681" align="alignleft" width="150"] Small commercial craft in Whitby[/caption]The Whitby Regatta 2016 August 19th, 20th, 21st, 22nd, presents to you, four days of entertainment, embracing yacht racing, rowing races and various free forms of entertainment as published in the official programme, finishing with a prize presentation and spectacular firework display.One hundred and seventy six years of aquatic competition and entertainment. The Whitby Regatta is probably the oldest sea Regatta on the northeast coast and has drawn large crowds into Whitby over the years. 
CATEGORIES:Festival
X-FUNAMBOL-ALLDAY: 1
X-MICROSOFT-CDO-ALLDAYEVENT: TRUE

END:VEVENT
BEGIN:VEVENT
UID:2304-243
LOCATION:Whitby Pavilion West Cliff  Whitby North Yorkshire YO21 3EN
SUMMARY:MUSICPORT Whitby
DTSTAMP:20161022T000000
ORGANIZER;CN=JS:MAILTO:info@completeinternetservices.co.uk
DTSTART;TZID=Europe/London:20161022T000000
DTEND;TZID=Europe/London:20161023T000000
URL;VALUE=URI:http://www.whitby.co.uk/calendar/
DESCRIPTION:MUSICPORT WhitbyMusicport, is an annual music festival held in Whitby Pavilion, showcasing a dynamic range of World Music.Whitby Pavilion Complex,Whitby West Cliff,Whitby,Yorkshire,YO21 3EN.Telephone: 01947 603475 
CATEGORIES:Music
X-FUNAMBOL-ALLDAY: 1
X-MICROSOFT-CDO-ALLDAYEVENT: TRUE

END:VEVENT
BEGIN:VEVENT
UID:2306-245
LOCATION:Whitby Pavilion West Cliff  Whitby North Yorkshire YO21 3EN
SUMMARY:BRAM STOKER FILM FESTIVAL Whitby
DTSTAMP:20161025T000000
ORGANIZER;CN=JS:MAILTO:info@completeinternetservices.co.uk
DTSTART;TZID=Europe/London:20161025T000000
DTEND;TZID=Europe/London:20161026T000000
URL;VALUE=URI:http://www.whitby.co.uk/calendar/
DESCRIPTION:BRAM STOKER FILM FESTIVALA festival dedicated to continuing Whitby and Bram Stoker's gothic tradition through art, music, literature and of course, films.Whitby Pavilion Complex WhitbyWhitby Pavilion, West Cliff, Whitby, North Yorkshire, YO21 3EN. Telephone: 01947 899041 
CATEGORIES:Festival
X-FUNAMBOL-ALLDAY: 1
X-MICROSOFT-CDO-ALLDAYEVENT: TRUE

END:VEVENT
BEGIN:VEVENT
UID:2307-246
LOCATION:Whitby Pavilion West Cliff  Whitby North Yorkshire YO21 3EN
SUMMARY:BRAM STOKER FILM FESTIVAL Whitby
DTSTAMP:20161026T000000
ORGANIZER;CN=JS:MAILTO:info@completeinternetservices.co.uk
DTSTART;TZID=Europe/London:20161026T000000
DTEND;TZID=Europe/London:20161027T000000
URL;VALUE=URI:http://www.whitby.co.uk/calendar/
DESCRIPTION:BRAM STOKER FILM FESTIVALA festival dedicated to continuing Whitby and Bram Stoker's gothic tradition through art, music, literature and of course, films.Whitby Pavilion Complex WhitbyWhitby Pavilion, West Cliff, Whitby, North Yorkshire, YO21 3EN. Telephone: 01947 899041 
CATEGORIES:Festival
X-FUNAMBOL-ALLDAY: 1
X-MICROSOFT-CDO-ALLDAYEVENT: TRUE

END:VEVENT
BEGIN:VEVENT
UID:2308-247
LOCATION:Whitby Pavilion West Cliff  Whitby North Yorkshire YO21 3EN
SUMMARY:BRAM STOKER FILM FESTIVAL Whitby
DTSTAMP:20161027T000000
ORGANIZER;CN=JS:MAILTO:info@completeinternetservices.co.uk
DTSTART;TZID=Europe/London:20161027T000000
DTEND;TZID=Europe/London:20161028T000000
URL;VALUE=URI:http://www.whitby.co.uk/calendar/
DESCRIPTION:BRAM STOKER FILM FESTIVALA festival dedicated to continuing Whitby and Bram Stoker's gothic tradition through art, music, literature and of course, films.Whitby Pavilion Complex WhitbyWhitby Pavilion, West Cliff, Whitby, North Yorkshire, YO21 3EN. Telephone: 01947 899041 
CATEGORIES:Festival
X-FUNAMBOL-ALLDAY: 1
X-MICROSOFT-CDO-ALLDAYEVENT: TRUE

END:VEVENT
BEGIN:VEVENT
UID:2309-248
LOCATION:Whitby Pavilion West Cliff  Whitby North Yorkshire YO21 3EN
SUMMARY:BRAM STOKER FILM FESTIVAL Whitby
DTSTAMP:20161028T000000
ORGANIZER;CN=JS:MAILTO:info@completeinternetservices.co.uk
DTSTART;TZID=Europe/London:20161028T000000
DTEND;TZID=Europe/London:20161029T000000
URL;VALUE=URI:http://www.whitby.co.uk/calendar/
DESCRIPTION:BRAM STOKER FILM FESTIVALA festival dedicated to continuing Whitby and Bram Stoker's gothic tradition through art, music, literature and of course, films.Whitby Pavilion Complex WhitbyWhitby Pavilion, West Cliff, Whitby, North Yorkshire, YO21 3EN. Telephone: 01947 899041 
CATEGORIES:Festival
X-FUNAMBOL-ALLDAY: 1
X-MICROSOFT-CDO-ALLDAYEVENT: TRUE

END:VEVENT
BEGIN:VEVENT
UID:2310-249
LOCATION:Whitby Pavilion West Cliff  Whitby North Yorkshire YO21 3EN
SUMMARY:BRAM STOKER FILM FESTIVAL Whitby
DTSTAMP:20161029T000000
ORGANIZER;CN=JS:MAILTO:info@completeinternetservices.co.uk
DTSTART;TZID=Europe/London:20161029T000000
DTEND;TZID=Europe/London:20161030T000000
URL;VALUE=URI:http://www.whitby.co.uk/calendar/
DESCRIPTION:BRAM STOKER FILM FESTIVALA festival dedicated to continuing Whitby and Bram Stoker's gothic tradition through art, music, literature and of course, films.Whitby Pavilion Complex WhitbyWhitby Pavilion, West Cliff, Whitby, North Yorkshire, YO21 3EN. Telephone: 01947 899041 
CATEGORIES:Festival
X-FUNAMBOL-ALLDAY: 1
X-MICROSOFT-CDO-ALLDAYEVENT: TRUE

END:VEVENT
BEGIN:VEVENT
UID:2311-250
LOCATION:Whitby Pavilion West Cliff  Whitby North Yorkshire YO21 3EN
SUMMARY:BRAM STOKER FILM FESTIVAL Whitby
DTSTAMP:20161030T000000
ORGANIZER;CN=JS:MAILTO:info@completeinternetservices.co.uk
DTSTART;TZID=Europe/London:20161030T000000
DTEND;TZID=Europe/London:20161031T000000
URL;VALUE=URI:http://www.whitby.co.uk/calendar/
DESCRIPTION:BRAM STOKER FILM FESTIVALA festival dedicated to continuing Whitby and Bram Stoker's gothic tradition through art, music, literature and of course, films.Whitby Pavilion Complex WhitbyWhitby Pavilion, West Cliff, Whitby, North Yorkshire, YO21 3EN. Telephone: 01947 899041 
CATEGORIES:Festival
X-FUNAMBOL-ALLDAY: 1
X-MICROSOFT-CDO-ALLDAYEVENT: TRUE

END:VEVENT
BEGIN:VEVENT
UID:2305-244
LOCATION:Whitby Pavilion West Cliff  Whitby North Yorkshire YO21 3EN
SUMMARY:MUSICPORT Whitby
DTSTAMP:20161023T000000
ORGANIZER;CN=JS:MAILTO:info@completeinternetservices.co.uk
DTSTART;TZID=Europe/London:20161023T000000
DTEND;TZID=Europe/London:20161024T000000
URL;VALUE=URI:http://www.whitby.co.uk/calendar/
DESCRIPTION:MUSICPORT WhitbyMusicport, is an annual music festival held in Whitby Pavilion, showcasing a dynamic range of World Music.Whitby Pavilion Complex,Whitby West Cliff,Whitby,Yorkshire,YO21 3EN.Telephone: 01947 603475 
CATEGORIES:Music
X-FUNAMBOL-ALLDAY: 1
X-MICROSOFT-CDO-ALLDAYEVENT: TRUE

END:VEVENT
BEGIN:VEVENT
UID:2301-240
LOCATION:Whitby Pavilion West Cliff  Whitby North Yorkshire YO21 3EN
SUMMARY:WHITBY 60'S SPECTACULAR 2016
DTSTAMP:20160924T000000
ORGANIZER;CN=JS:MAILTO:info@completeinternetservices.co.uk
DTSTART;TZID=Europe/London:20160924T000000
DTEND;TZID=Europe/London:20160925T000000
URL;VALUE=URI:http://www.whitby.co.uk/calendar/
DESCRIPTION:WHITBY 60'S SPECTACULAR 2016Whitby Live brings you a weekend of live sixties music from some of the biggest bands of the decade. Dig out your finest 60's fashion and join us for a weekend you'll never forget.Whitby Pavilion Complex, Whitby West Cliff, Whitby, North Yorkshire, YO21 3EN. Telephone: 01947 458899 
CATEGORIES:Music
X-FUNAMBOL-ALLDAY: 1
X-MICROSOFT-CDO-ALLDAYEVENT: TRUE

END:VEVENT
BEGIN:VEVENT
UID:2302-241
LOCATION:Whitby Pavilion West Cliff  Whitby North Yorkshire YO21 3EN
SUMMARY:WHITBY 60'S SPECTACULAR 2016
DTSTAMP:20160925T000000
ORGANIZER;CN=JS:MAILTO:info@completeinternetservices.co.uk
DTSTART;TZID=Europe/London:20160925T000000
DTEND;TZID=Europe/London:20160926T000000
URL;VALUE=URI:http://www.whitby.co.uk/calendar/
DESCRIPTION:WHITBY 60'S SPECTACULAR 2016Whitby Live brings you a weekend of live sixties music from some of the biggest bands of the decade. Dig out your finest 60's fashion and join us for a weekend you'll never forget.Whitby Pavilion Complex, Whitby West Cliff, Whitby, North Yorkshire, YO21 3EN. Telephone: 01947 458899 
CATEGORIES:Music
X-FUNAMBOL-ALLDAY: 1
X-MICROSOFT-CDO-ALLDAYEVENT: TRUE

END:VEVENT
BEGIN:VEVENT
UID:2300-239
LOCATION:Whitby Pavilion West Cliff  Whitby North Yorkshire YO21 3EN
SUMMARY:WHITBY 60'S SPECTACULAR 2016
DTSTAMP:20160923T000000
ORGANIZER;CN=JS:MAILTO:info@completeinternetservices.co.uk
DTSTART;TZID=Europe/London:20160923T000000
DTEND;TZID=Europe/London:20160924T000000
URL;VALUE=URI:http://www.whitby.co.uk/calendar/
DESCRIPTION:WHITBY 60'S SPECTACULAR 2016Whitby Live brings you a weekend of live sixties music from some of the biggest bands of the decade. Dig out your finest 60's fashion and join us for a weekend you'll never forget.Whitby Pavilion Complex, Whitby West Cliff, Whitby, North Yorkshire, YO21 3EN. Telephone: 01947 458899 
CATEGORIES:Music
X-FUNAMBOL-ALLDAY: 1
X-MICROSOFT-CDO-ALLDAYEVENT: TRUE

END:VEVENT
BEGIN:VEVENT
UID:2298-237
LOCATION:Whitby Pavilion West Cliff  Whitby North Yorkshire YO21 3EN
SUMMARY:MOTOWN SOUL WEEKENDER 2016 Whitby
DTSTAMP:20160916T080000
ORGANIZER;CN=JS:MAILTO:info@completeinternetservices.co.uk
DTSTART;TZID=Europe/London:20160916T080000
DTEND;TZID=Europe/London:20160916T230000
URL;VALUE=URI:http://www.whitby.co.uk/calendar/
DESCRIPTION:MOTOWN SOUL WEEKENDER 2016 WhitbyFor those who want a lighter weekender with more familiar favourites from the world of Motown and Soul's golden era(60's-80's), Whitby Pavilion is the perfect venue.On the clifftop looking over the beautiful town of Whitby, North Yorkshire.PLEASE NOTE- THIS IS A TICKETLESS EVENT WHEN BUYING FROM GOLDSOUL. Print off your order at checkout or remember your order number  you will be automatically be added to our door list. A wristband will be issued upon arrival. Price includes a Two night event   Artists appears on the Saturday evening.   3 rooms for dancing  Already a massive hit with its July Northern Soul Weekend, this 2nd event at the famous venue, brings 2 nights of glorious music to one of the best locations on the East Coast. The wonderful town of WHITBY..Friday,  8.pm-2am  Saturday 8pm-2am with A Major Classic Soul group and 2nd act TBA shortly (on stage 11pm) with full backing band live on stage.KEV ROBERTS(Blackpool Tower/Wigan Casino), GINGER TAYLOR(Whitby Weekender/Brighouse Ritz), CHRIS KING(Kings Hall Stoke and KWS 'Please Don't Go' frontman)  plus SNOWY(Whitby Weekender/Doncaster), SOUL SAM(Whitby Weekender), CRAIG STRONG(East Midlands),OZZ(Kings Hall Stoke), SAM EVANS(Nuneaton), SIMON HUNT(Derby),ROB SMITH(Kings Hall Stoke), NEV SHOOTER(East Mids),Dennis Bradbury, Alan Jones, Ron Lavendar plus Guests in 2 rooms.Main level(8pm-2am)- Motown, 60's-80's Club and Disco Classics, Familiar Dance floor favourites. Huge Stage, Classic Soul on the big screen and Competition prizes.Downstairs(9pm-2am)- Stomping Northern Soul from the heady days of Wigan Casino, Twisted Wheel, Cleethorpes, The Torch  etc.plus the Marketplace with stalls and a fabulous 70's/80's Disco soundtrack to enjoy!Additional venue to go to.... Thursday Warm up  Rifle Club 8pm-1am (Ltd entry-first come, first served) and the *Pier Bar* 1-4pm Friday and Saturday. 
CATEGORIES:Music
END:VEVENT
BEGIN:VEVENT
UID:2299-238
LOCATION:Whitby Pavilion West Cliff  Whitby North Yorkshire YO21 3EN
SUMMARY:MOTOWN SOUL WEEKENDER 2016 Whitby
DTSTAMP:20160917T080000
ORGANIZER;CN=JS:MAILTO:info@completeinternetservices.co.uk
DTSTART;TZID=Europe/London:20160917T080000
DTEND;TZID=Europe/London:20160917T230000
URL;VALUE=URI:http://www.whitby.co.uk/calendar/
DESCRIPTION:MOTOWN SOUL WEEKENDER 2016 WhitbyFor those who want a lighter weekender with more familiar favourites from the world of Motown and Soul's golden era(60's-80's), Whitby Pavilion is the perfect venue.On the clifftop looking over the beautiful town of Whitby, North Yorkshire.PLEASE NOTE- THIS IS A TICKETLESS EVENT WHEN BUYING FROM GOLDSOUL. Print off your order at checkout or remember your order number  you will be automatically be added to our door list. A wristband will be issued upon arrival. Price includes a Two night event   Artists appears on the Saturday evening.   3 rooms for dancing  Already a massive hit with its July Northern Soul Weekend, this 2nd event at the famous venue, brings 2 nights of glorious music to one of the best locations on the East Coast. The wonderful town of WHITBY..Friday,  8.pm-2am  Saturday 8pm-2am with A Major Classic Soul group and 2nd act TBA shortly (on stage 11pm) with full backing band live on stage.KEV ROBERTS(Blackpool Tower/Wigan Casino), GINGER TAYLOR(Whitby Weekender/Brighouse Ritz), CHRIS KING(Kings Hall Stoke and KWS 'Please Don't Go' frontman)  plus SNOWY(Whitby Weekender/Doncaster), SOUL SAM(Whitby Weekender), CRAIG STRONG(East Midlands),OZZ(Kings Hall Stoke), SAM EVANS(Nuneaton), SIMON HUNT(Derby),ROB SMITH(Kings Hall Stoke), NEV SHOOTER(East Mids),Dennis Bradbury, Alan Jones, Ron Lavendar plus Guests in 2 rooms.Main level(8pm-2am)- Motown, 60's-80's Club and Disco Classics, Familiar Dance floor favourites. Huge Stage, Classic Soul on the big screen and Competition prizes.Downstairs(9pm-2am)- Stomping Northern Soul from the heady days of Wigan Casino, Twisted Wheel, Cleethorpes, The Torch  etc.plus the Marketplace with stalls and a fabulous 70's/80's Disco soundtrack to enjoy!Additional venue to go to.... Thursday Warm up  Rifle Club 8pm-1am (Ltd entry-first come, first served) and the *Pier Bar* 1-4pm Friday and Saturday. 
CATEGORIES:Music
END:VEVENT
BEGIN:VEVENT
UID:2296-235
LOCATION:Whitby   Whitby North Yorkshire YO21
SUMMARY:WHITBY LIFEBOAT FLAG WEEKEND 2016
DTSTAMP:20160730T090000
ORGANIZER;CN=JS:MAILTO:info@completeinternetservices.co.uk
DTSTART;TZID=Europe/London:20160730T090000
DTEND;TZID=Europe/London:20160730T180000
URL;VALUE=URI:http://www.whitby.co.uk/calendar/
DESCRIPTION:WHITBY LIFEBOAT FLAG WEEKEND 2016Whitby Lifeboat station at Whitby has 49 awards for gallantry being presented. Today's station operates two lifeboats.[caption id="attachment_1344" align="alignleft" width="150"] Old lifeboat house[/caption]Fish Pier,Church Street,Whitby, North Yorkshire,YO22 4AE.Telephone: 01947 602216 
CATEGORIES:Town Events
END:VEVENT
BEGIN:VEVENT
UID:2297-236
LOCATION:Whitby   Whitby North Yorkshire YO21
SUMMARY:WHITBY LIFEBOAT FLAG WEEKEND 2016
DTSTAMP:20160731T090000
ORGANIZER;CN=JS:MAILTO:info@completeinternetservices.co.uk
DTSTART;TZID=Europe/London:20160731T090000
DTEND;TZID=Europe/London:20160731T180000
URL;VALUE=URI:http://www.whitby.co.uk/calendar/
DESCRIPTION:WHITBY LIFEBOAT FLAG WEEKEND 2016Whitby Lifeboat station at Whitby has 49 awards for gallantry being presented. Today's station operates two lifeboats.[caption id="attachment_1344" align="alignleft" width="150"] Old lifeboat house[/caption]Fish Pier,Church Street,Whitby, North Yorkshire,YO22 4AE.Telephone: 01947 602216 
CATEGORIES:Town Events
END:VEVENT
BEGIN:VEVENT
UID:2295-234
LOCATION:Whitby   Whitby North Yorkshire YO21
SUMMARY:Blessing of the Boats Whitby
DTSTAMP:20160710T000000
ORGANIZER;CN=JS:MAILTO:info@completeinternetservices.co.uk
DTSTART;TZID=Europe/London:20160710T000000
DTEND;TZID=Europe/London:20160711T000000
URL;VALUE=URI:http://www.whitby.co.uk/calendar/
DESCRIPTION:Blessing of the Boats WhitbyReflecting the town's seafaring traditions this service has been taking place since the 1960s dating back to the time of the herring fleets.Address:Church Street, Whitby, North Yorkshire, YO22 4AE. Telephone: 01947 606578 
CATEGORIES:Town Events
X-FUNAMBOL-ALLDAY: 1
X-MICROSOFT-CDO-ALLDAYEVENT: TRUE

END:VEVENT
BEGIN:VEVENT
UID:2294-233
LOCATION:Whitby Bandstand   Whitby North Yorkshire YO21 1QE
SUMMARY:WHITBY SEA FESTIVAL
DTSTAMP:20160710T190000
ORGANIZER;CN=JS:MAILTO:info@completeinternetservices.co.uk
DTSTART;TZID=Europe/London:20160710T190000
DTEND;TZID=Europe/London:20160710T210000
URL;VALUE=URI:http://www.whitby.co.uk/calendar/
DESCRIPTION:WHITBY SEA FESTIVALA weekend of matters maritime. Sea Songs, Talks,Shanties, Workshops and more...acts already booked from across the UK. Whitby is the perfect place for a maritime festival. Real Ale, Festival Food,Concerts and Sessions throughout the weekendWhitby Mission,The Met,Bandstand,Whitby,North Yorkshire,YO21 1QE.Telephone: 01947 459044 
CATEGORIES:Festival
END:VEVENT
BEGIN:VEVENT
UID:2291-230
LOCATION:Whitby Pavilion West Cliff  Whitby North Yorkshire YO21 3EN
SUMMARY:QUEEN BEE QUILTERS Whitby
DTSTAMP:20160710T100000
ORGANIZER;CN=JS:MAILTO:info@completeinternetservices.co.uk
DTSTART;TZID=Europe/London:20160710T100000
DTEND;TZID=Europe/London:20160710T160000
URL;VALUE=URI:http://www.whitby.co.uk/calendar/
DESCRIPTION:QUEEN BEE QUILTERS WhitbyAn Exhibition of patchwork and quilting by Queen Bee Quilters and Friends who will be displaying the work they have done over the past two years.Whitby Pavilion Complex, Whitby West Cliff, Whitby, Yorkshire, YO21 3EN. 01947 603873 or 07792939683 
CATEGORIES:Displays
END:VEVENT
BEGIN:VEVENT
UID:2292-231
LOCATION:Whitby Bandstand   Whitby North Yorkshire YO21 1QE
SUMMARY:WHITBY SEA FESTIVAL
DTSTAMP:20160708T190000
ORGANIZER;CN=JS:MAILTO:info@completeinternetservices.co.uk
DTSTART;TZID=Europe/London:20160708T190000
DTEND;TZID=Europe/London:20160708T210000
URL;VALUE=URI:http://www.whitby.co.uk/calendar/
DESCRIPTION:WHITBY SEA FESTIVALA weekend of matters maritime. Sea Songs, Talks,Shanties, Workshops and more...acts already booked from across the UK. Whitby is the perfect place for a maritime festival. Real Ale, Festival Food,Concerts and Sessions throughout the weekendWhitby Mission,The Met,Bandstand,Whitby,North Yorkshire,YO21 1QE.Telephone: 01947 459044 
CATEGORIES:Festival
END:VEVENT
BEGIN:VEVENT
UID:2289-228
LOCATION:Whitby Pavilion West Cliff  Whitby North Yorkshire YO21 3EN
SUMMARY:QUEEN BEE QUILTERS Whitby
DTSTAMP:20160708T100000
ORGANIZER;CN=JS:MAILTO:info@completeinternetservices.co.uk
DTSTART;TZID=Europe/London:20160708T100000
DTEND;TZID=Europe/London:20160708T160000
URL;VALUE=URI:http://www.whitby.co.uk/calendar/
DESCRIPTION:QUEEN BEE QUILTERS WhitbyAn Exhibition of patchwork and quilting by Queen Bee Quilters and Friends who will be displaying the work they have done over the past two years.Whitby Pavilion Complex, Whitby West Cliff, Whitby, Yorkshire, YO21 3EN. 01947 603873 or 07792939683 
CATEGORIES:Displays
END:VEVENT
BEGIN:VEVENT
UID:2293-232
LOCATION:Whitby Bandstand   Whitby North Yorkshire YO21 1QE
SUMMARY:WHITBY SEA FESTIVAL
DTSTAMP:20160709T190000
ORGANIZER;CN=JS:MAILTO:info@completeinternetservices.co.uk
DTSTART;TZID=Europe/London:20160709T190000
DTEND;TZID=Europe/London:20160709T210000
URL;VALUE=URI:http://www.whitby.co.uk/calendar/
DESCRIPTION:WHITBY SEA FESTIVALA weekend of matters maritime. Sea Songs, Talks,Shanties, Workshops and more...acts already booked from across the UK. Whitby is the perfect place for a maritime festival. Real Ale, Festival Food,Concerts and Sessions throughout the weekendWhitby Mission,The Met,Bandstand,Whitby,North Yorkshire,YO21 1QE.Telephone: 01947 459044 
CATEGORIES:Festival
END:VEVENT
BEGIN:VEVENT
UID:2290-229
LOCATION:Whitby Pavilion West Cliff  Whitby North Yorkshire YO21 3EN
SUMMARY:QUEEN BEE QUILTERS Whitby
DTSTAMP:20160709T100000
ORGANIZER;CN=JS:MAILTO:info@completeinternetservices.co.uk
DTSTART;TZID=Europe/London:20160709T100000
DTEND;TZID=Europe/London:20160709T160000
URL;VALUE=URI:http://www.whitby.co.uk/calendar/
DESCRIPTION:QUEEN BEE QUILTERS WhitbyAn Exhibition of patchwork and quilting by Queen Bee Quilters and Friends who will be displaying the work they have done over the past two years.Whitby Pavilion Complex, Whitby West Cliff, Whitby, Yorkshire, YO21 3EN. 01947 603873 or 07792939683 
CATEGORIES:Displays
END:VEVENT
BEGIN:VEVENT
UID:2284-223
LOCATION:Whitby Pavilion West Cliff  Whitby North Yorkshire YO21 3EN
SUMMARY:WHITBY SOUL WEEKENDER
DTSTAMP:20160701T150000
ORGANIZER;CN=JS:MAILTO:info@completeinternetservices.co.uk
DTSTART;TZID=Europe/London:20160701T150000
DTEND;TZID=Europe/London:20160701T180000
URL;VALUE=URI:http://www.whitby.co.uk/calendar/
DESCRIPTION:WHITBY SOUL WEEKENDERThe ORIGINAL Yorkshire Soul Weekender Experience in the beautiful town of Whitby. Anually packed and featuring the best in Northern Soul, Motown and Modern Soul with the North's best loved DJ's. Yorkshire's original since 2002.Offering you daytime sessions plus Soul nights spread over three days, we have chosen a different presentation for the weekend from the other 'Friday through  Sunday packages' which allows for a relaxing weekend break as well as the time-honoured soul experience.Two huge rooms at the Whitby Pavilion offering Northern Soul Classics, Motown favourites plus current In - demanders on a superb dancefloor).EXCLUSIVE DJ line up including Kev Roberts, Ginger Taylor, Richard Searling, Mick H, Yocki, Nige Brown, Soul Sam, Chris King, John Poole, Chris Dalton, Snowy, Dave Evison, Sean Chapman,Ozz, Steve Woomble, Sean Hampsey,Tony B, Dennis Bradbury,Sam Evans, Nev Shooter, Phil Kingswood, Derek Mead, Andy Bellwood John Barker and guests.1st – 3rd July 2016Friday: 3pm - 6pm(Early bird check in) and 9pm - 3.30am,Saturday: 12 noon-6pm and 9pm - 3.30amSunday: 12-12 mid  plus a Social Soul scene gathering in the Record Sellers Marketplace with DJ's spinning 'underplayed Soul' most of the weekend.Weekend Tickets: £37.50 
CATEGORIES:Music
END:VEVENT
BEGIN:VEVENT
UID:2285-224
LOCATION:Whitby Pavilion West Cliff  Whitby North Yorkshire YO21 3EN
SUMMARY:WHITBY SOUL WEEKENDER
DTSTAMP:20160701T210000
ORGANIZER;CN=JS:MAILTO:info@completeinternetservices.co.uk
DTSTART;TZID=Europe/London:20160701T210000
DTEND;TZID=Europe/London:20160701T033000
URL;VALUE=URI:http://www.whitby.co.uk/calendar/
DESCRIPTION:WHITBY SOUL WEEKENDERThe ORIGINAL Yorkshire Soul Weekender Experience in the beautiful town of Whitby. Anually packed and featuring the best in Northern Soul, Motown and Modern Soul with the North's best loved DJ's. Yorkshire's original since 2002.Offering you daytime sessions plus Soul nights spread over three days, we have chosen a different presentation for the weekend from the other 'Friday through  Sunday packages' which allows for a relaxing weekend break as well as the time-honoured soul experience.Two huge rooms at the Whitby Pavilion offering Northern Soul Classics, Motown favourites plus current In - demanders on a superb dancefloor).EXCLUSIVE DJ line up including Kev Roberts, Ginger Taylor, Richard Searling, Mick H, Yocki, Nige Brown, Soul Sam, Chris King, John Poole, Chris Dalton, Snowy, Dave Evison, Sean Chapman,Ozz, Steve Woomble, Sean Hampsey,Tony B, Dennis Bradbury,Sam Evans, Nev Shooter, Phil Kingswood, Derek Mead, Andy Bellwood John Barker and guests.1st – 3rd July 2016Friday: 3pm - 6pm(Early bird check in) and 9pm - 3.30am,Saturday: 12 noon-6pm and 9pm - 3.30amSunday: 12-12 mid  plus a Social Soul scene gathering in the Record Sellers Marketplace with DJ's spinning 'underplayed Soul' most of the weekend.Weekend Tickets: £37.50 
CATEGORIES:Music
END:VEVENT
BEGIN:VEVENT
UID:2286-225
LOCATION:Whitby Pavilion West Cliff  Whitby North Yorkshire YO21 3EN
SUMMARY:WHITBY SOUL WEEKENDER
DTSTAMP:20160702T000000
ORGANIZER;CN=JS:MAILTO:info@completeinternetservices.co.uk
DTSTART;TZID=Europe/London:20160702T000000
DTEND;TZID=Europe/London:20160702T180000
URL;VALUE=URI:http://www.whitby.co.uk/calendar/
DESCRIPTION:WHITBY SOUL WEEKENDERThe ORIGINAL Yorkshire Soul Weekender Experience in the beautiful town of Whitby. Anually packed and featuring the best in Northern Soul, Motown and Modern Soul with the North's best loved DJ's. Yorkshire's original since 2002.Offering you daytime sessions plus Soul nights spread over three days, we have chosen a different presentation for the weekend from the other 'Friday through  Sunday packages' which allows for a relaxing weekend break as well as the time-honoured soul experience.Two huge rooms at the Whitby Pavilion offering Northern Soul Classics, Motown favourites plus current In - demanders on a superb dancefloor).EXCLUSIVE DJ line up including Kev Roberts, Ginger Taylor, Richard Searling, Mick H, Yocki, Nige Brown, Soul Sam, Chris King, John Poole, Chris Dalton, Snowy, Dave Evison, Sean Chapman,Ozz, Steve Woomble, Sean Hampsey,Tony B, Dennis Bradbury,Sam Evans, Nev Shooter, Phil Kingswood, Derek Mead, Andy Bellwood John Barker and guests.1st – 3rd July 2016Friday: 3pm - 6pm(Early bird check in) and 9pm - 3.30am,Saturday: 12 noon-6pm and 9pm - 3.30amSunday: 12-12 mid  plus a Social Soul scene gathering in the Record Sellers Marketplace with DJ's spinning 'underplayed Soul' most of the weekend.Weekend Tickets: £37.50 
CATEGORIES:Music
END:VEVENT
END:VCALENDAR